BEGIN:VCALENDAR
VERSION:2.0
PRODID:-//TYPO3/NONSGML Calendarize//EN


BEGIN:VEVENT
UID:calendarize-lu-izpf-darbinieku-sanaksme-1
DTSTAMP:20260414T195447Z

DTSTART:20260619T110000Z
DTEND:20260619T130000Z
    
SUMMARY:LU IZPF Darbinieku sanāksme
DESCRIPTION:
X-ALT-DESC;FMTTYPE=text/html:
LOCATION:
END:VEVENT

END:VCALENDAR